BEGIN:VCALENDAR
VERSION:2.0
PRODID:-//Wangeliner Garten - ECPv6.15.20//NONSGML v1.0//EN
CALSCALE:GREGORIAN
METHOD:PUBLISH
X-WR-CALNAME:Wangeliner Garten
X-ORIGINAL-URL:https://wangeliner-garten.de
X-WR-CALDESC:Veranstaltungen für Wangeliner Garten
REFRESH-INTERVAL;VALUE=DURATION:PT1H
X-Robots-Tag:noindex
X-PUBLISHED-TTL:PT1H
BEGIN:VTIMEZONE
TZID:Europe/Berlin
BEGIN:DAYLIGHT
TZOFFSETFROM:+0100
TZOFFSETTO:+0200
TZNAME:CEST
DTSTART:20250330T010000
END:DAYLIGHT
BEGIN:STANDARD
TZOFFSETFROM:+0200
TZOFFSETTO:+0100
TZNAME:CET
DTSTART:20251026T010000
END:STANDARD
BEGIN:DAYLIGHT
TZOFFSETFROM:+0100
TZOFFSETTO:+0200
TZNAME:CEST
DTSTART:20260329T010000
END:DAYLIGHT
BEGIN:STANDARD
TZOFFSETFROM:+0200
TZOFFSETTO:+0100
TZNAME:CET
DTSTART:20261025T010000
END:STANDARD
BEGIN:DAYLIGHT
TZOFFSETFROM:+0100
TZOFFSETTO:+0200
TZNAME:CEST
DTSTART:20270328T010000
END:DAYLIGHT
BEGIN:STANDARD
TZOFFSETFROM:+0200
TZOFFSETTO:+0100
TZNAME:CET
DTSTART:20271031T010000
END:STANDARD
END:VTIMEZONE
BEGIN:VEVENT
DTSTART;TZID=Europe/Berlin:20260424T200000
DTEND;TZID=Europe/Berlin:20260424T220000
DTSTAMP:20260424T013849
CREATED:20260323T091511Z
LAST-MODIFIED:20260323T091511Z
UID:2789-1777060800-1777068000@wangeliner-garten.de
SUMMARY:Father Mother Sister Brother
DESCRIPTION:Wangeliner Gartenkino // Komödie\, Drama // USA\, Irland\, Frankreich 2025 // Regie: Jim Jarmusch // FSK 12 // \n\n\n\nFATHER MOTHER SISTER BROTHER ist ein behutsam als Triptychon komponierter Spielfilm. Die drei Geschichten kreisen um die Beziehungen erwachsener Kinder zu ihren teils distanzierten Eltern und untereinander. Jedes der drei Kapitel spielt in der Gegenwart\, jedes in einem anderen Land: FATHER ist im Nordosten der USA angesiedelt\, MOTHER in Dublin und SISTER BROTHER in Paris. Es ist eine Reihe von Charakterstudien\, ruhig\, beobachtend und ohne Wertung – und zugleich eine Komödie\, durchzogen von feinen Fäden der Melancholie. \n\n\n\nIn seinem neuesten Geniestreich lässt Regie-Ikone Jim Jarmusch den hochkarätigen Cast um Tom Waits\, Adam Driver\, Mayim Bialik\, Charlotte Rampling\, Cate Blanchett\, Vicky Krieps\, Indya Moore und Luka Sabbat die Untiefen familiärer Beziehungen ausloten. FATHER MOTHER SISTER BROTHER wurde bei den Filmfestspielen von Venedig mit dem Goldenen Löwen ausgezeichnet.
URL:https://wangeliner-garten.de/event-feed/father-mother-sister-brother/
ATTACH;FMTTYPE=image/jpeg:https://wangeliner-garten.de/wp-content/uploads/2026/03/Father-Mother-Sister-Brother-rinxkdyjpyne8dkz3fdkoyyt4shgfonc4jmimb1mlu.jpg
END:VEVENT
END:VCALENDAR