BEGIN:VCALENDAR
VERSION:2.0
PRODID:-//Wangeliner Garten - ECPv6.15.20//NONSGML v1.0//EN
CALSCALE:GREGORIAN
METHOD:PUBLISH
X-WR-CALNAME:Wangeliner Garten
X-ORIGINAL-URL:https://wangeliner-garten.de
X-WR-CALDESC:Veranstaltungen für Wangeliner Garten
REFRESH-INTERVAL;VALUE=DURATION:PT1H
X-Robots-Tag:noindex
X-PUBLISHED-TTL:PT1H
BEGIN:VTIMEZONE
TZID:Europe/Berlin
BEGIN:DAYLIGHT
TZOFFSETFROM:+0100
TZOFFSETTO:+0200
TZNAME:CEST
DTSTART:20240331T010000
END:DAYLIGHT
BEGIN:STANDARD
TZOFFSETFROM:+0200
TZOFFSETTO:+0100
TZNAME:CET
DTSTART:20241027T010000
END:STANDARD
BEGIN:DAYLIGHT
TZOFFSETFROM:+0100
TZOFFSETTO:+0200
TZNAME:CEST
DTSTART:20250330T010000
END:DAYLIGHT
BEGIN:STANDARD
TZOFFSETFROM:+0200
TZOFFSETTO:+0100
TZNAME:CET
DTSTART:20251026T010000
END:STANDARD
BEGIN:DAYLIGHT
TZOFFSETFROM:+0100
TZOFFSETTO:+0200
TZNAME:CEST
DTSTART:20260329T010000
END:DAYLIGHT
BEGIN:STANDARD
TZOFFSETFROM:+0200
TZOFFSETTO:+0100
TZNAME:CET
DTSTART:20261025T010000
END:STANDARD
END:VTIMEZONE
BEGIN:VEVENT
DTSTART;TZID=Europe/Berlin:20250713T100000
DTEND;TZID=Europe/Berlin:20250713T160000
DTSTAMP:20260422T231623
CREATED:20250620T080539Z
LAST-MODIFIED:20250705T060446Z
UID:2341-1752400800-1752422400@wangeliner-garten.de
SUMMARY:Wangeliner Kinderlehmbautag 2025
DESCRIPTION:Eine Kinderlehmbaustelle\, eine Lehmfigurenwerkstatt\, farbige Erden zum Malen verwandeln den Wangeliner Garten in einen großen Lehmspielplatz. \n\n\n\nKinder können spielen und staunen\, haben Spaß und Erlebnis. Kleine Baumeister und Baumeisterinnen bauen auf der Kinderlehmbaustelle aus Lehm\, Weidenstangen\, Natursteinen und Recyclingmaterialien.Kinder mischen Farben aus Sand\, Kies\, Erden und Backpulver\, Eiern und Quark\, malen und bekleben Bilder mit der Künstlerin Andrea Silbermann. \n\n\n\nAuch Pinsel und Malwerkzeuge stellen die kleinen Künstler und Künstlerinnen aus Naturmaterialien selber her. \n\n\n\nAn diesem Tage können sogar Erwachsene staunen und verstehen\, was man so alles mit Lehm und Erde machen kann. Auch Irrgarten\, Zauberblume und Maulwurfshügel laden zum Spielen und Entdecken ein. \n\n\n\nEintritt in den Wangeliner Garten:Erwachsene 6\,00  EUR\, ermäßigt 4\,00 EUR\,Kinder (7-16 Jahre) 3\,00 EUR \n\n\n\nEine Anmeldung ist nicht erforderlich.
URL:https://wangeliner-garten.de/event-feed/wangeliner-kinderlehmbautag-2025/
ATTACH;FMTTYPE=image/jpeg:https://wangeliner-garten.de/wp-content/uploads/2025/06/Plakat-Lehmkindertag-scaled.jpg
END:VEVENT
BEGIN:VEVENT
DTSTART;TZID=Europe/Berlin:20250727T140000
DTEND;TZID=Europe/Berlin:20250727T160000
DTSTAMP:20260422T231623
CREATED:20250321T132144Z
LAST-MODIFIED:20250321T132144Z
UID:2123-1753624800-1753632000@wangeliner-garten.de
SUMMARY:Führung zu den Strohballen- und Lehmhäusern
DESCRIPTION:Der Wangeliner Garten hat neben seinem Reichtum an Pflanzen noch andere Sehenswürdigkeiten: seit vielen Jahren wird hier auch gebaut – auf natürliche Weise. Die Führung ist ein Rundgang über das Gelände des Wangeliner Gartens und der Europäischen Bildungsstätte für Lehmbau und stellt Ihnen die Bauwerke vor\, die hier in den vergangenen Jahren errichtet oder erneuert wurden – mit Lehm\, Strohballen\, Kalk\, Weiden und anderen überwiegend natürlichen Baustoffen. So verschieden wie ihre Nutzungen sind auch die Bauweisen. Lassen Sie sich überraschen und schauen Sie auf und hinter die Fassaden. Es gibt was zu entdecken! \n 
URL:https://wangeliner-garten.de/event-feed/fuehrung-zu-den-strohballen-und-lehmhaeusern-3/
LOCATION:Wangeliner Garten\, Vietlübber Strasse\, Wangelin\, 19395\, Germany
CATEGORIES:Lehmbauführung
ATTACH;FMTTYPE=image/jpeg:https://wangeliner-garten.de/wp-content/uploads/2024/07/buero_im_lehmhaus_des_wangeliner_gartens.jpg
ORGANIZER;CN="Wangeliner Garten":MAILTO:info@wangeliner-garten.de
END:VEVENT
END:VCALENDAR